BEGIN:VCALENDAR
VERSION:2.0
PRODID:-//Bethel AME Church, Mobile, Alabama - ECPv6.15.18//NONSGML v1.0//EN
CALSCALE:GREGORIAN
METHOD:PUBLISH
X-WR-CALNAME:Bethel AME Church, Mobile, Alabama
X-ORIGINAL-URL:https://bethelamechurchmobile.com
X-WR-CALDESC:Events for Bethel AME Church, Mobile, Alabama
REFRESH-INTERVAL;VALUE=DURATION:PT1H
X-Robots-Tag:noindex
X-PUBLISHED-TTL:PT1H
BEGIN:VTIMEZONE
TZID:America/Chicago
BEGIN:DAYLIGHT
TZOFFSETFROM:-0600
TZOFFSETTO:-0500
TZNAME:CDT
DTSTART:20250309T080000
END:DAYLIGHT
BEGIN:STANDARD
TZOFFSETFROM:-0500
TZOFFSETTO:-0600
TZNAME:CST
DTSTART:20251102T070000
END:STANDARD
BEGIN:DAYLIGHT
TZOFFSETFROM:-0600
TZOFFSETTO:-0500
TZNAME:CDT
DTSTART:20260308T080000
END:DAYLIGHT
BEGIN:STANDARD
TZOFFSETFROM:-0500
TZOFFSETTO:-0600
TZNAME:CST
DTSTART:20261101T070000
END:STANDARD
BEGIN:DAYLIGHT
TZOFFSETFROM:-0600
TZOFFSETTO:-0500
TZNAME:CDT
DTSTART:20270314T080000
END:DAYLIGHT
BEGIN:STANDARD
TZOFFSETFROM:-0500
TZOFFSETTO:-0600
TZNAME:CST
DTSTART:20271107T070000
END:STANDARD
END:VTIMEZONE
BEGIN:VEVENT
DTSTART;TZID=America/Chicago:20260701T183000
DTEND;TZID=America/Chicago:20260701T183000
DTSTAMP:20260424T161337
CREATED:20251013T165537Z
LAST-MODIFIED:20251013T165537Z
UID:26042-1782930600-1782930600@bethelamechurchmobile.com
SUMMARY:Bible Study
DESCRIPTION:
URL:https://bethelamechurchmobile.com/event/bible-study-185/
LOCATION:Bethel AME Church\, 714 Savannah Street\, Mobile\, AL\, 36603\, United States
CATEGORIES:Bible Study
ORGANIZER;CN="Bethel AME Church":MAILTO:bethelamechurchmobile9.com
END:VEVENT
BEGIN:VEVENT
DTSTART;TZID=America/Chicago:20260705T103000
DTEND;TZID=America/Chicago:20260705T103000
DTSTAMP:20260424T161337
CREATED:20251013T193448Z
LAST-MODIFIED:20251013T193448Z
UID:26164-1783247400-1783247400@bethelamechurchmobile.com
SUMMARY:Worship Service
DESCRIPTION:
URL:https://bethelamechurchmobile.com/event/worship-service-402/
LOCATION:Bethel AME Church\, 714 Savannah Street\, Mobile\, AL\, 36603\, United States
CATEGORIES:Worship
ORGANIZER;CN="Bethel AME Church":MAILTO:bethelamechurchmobile9.com
END:VEVENT
BEGIN:VEVENT
DTSTART;TZID=America/Chicago:20260708T183000
DTEND;TZID=America/Chicago:20260708T183000
DTSTAMP:20260424T161337
CREATED:20251013T165537Z
LAST-MODIFIED:20251013T165537Z
UID:26043-1783535400-1783535400@bethelamechurchmobile.com
SUMMARY:Bible Study
DESCRIPTION:
URL:https://bethelamechurchmobile.com/event/bible-study-186/
LOCATION:Bethel AME Church\, 714 Savannah Street\, Mobile\, AL\, 36603\, United States
CATEGORIES:Bible Study
ORGANIZER;CN="Bethel AME Church":MAILTO:bethelamechurchmobile9.com
END:VEVENT
BEGIN:VEVENT
DTSTART;TZID=America/Chicago:20260712T103000
DTEND;TZID=America/Chicago:20260712T103000
DTSTAMP:20260424T161337
CREATED:20251013T193448Z
LAST-MODIFIED:20251013T193448Z
UID:26165-1783852200-1783852200@bethelamechurchmobile.com
SUMMARY:Worship Service
DESCRIPTION:
URL:https://bethelamechurchmobile.com/event/worship-service-403/
LOCATION:Bethel AME Church\, 714 Savannah Street\, Mobile\, AL\, 36603\, United States
CATEGORIES:Worship
ORGANIZER;CN="Bethel AME Church":MAILTO:bethelamechurchmobile9.com
END:VEVENT
BEGIN:VEVENT
DTSTART;TZID=America/Chicago:20260715T183000
DTEND;TZID=America/Chicago:20260715T183000
DTSTAMP:20260424T161337
CREATED:20251013T165538Z
LAST-MODIFIED:20251013T165538Z
UID:26044-1784140200-1784140200@bethelamechurchmobile.com
SUMMARY:Bible Study
DESCRIPTION:
URL:https://bethelamechurchmobile.com/event/bible-study-187/
LOCATION:Bethel AME Church\, 714 Savannah Street\, Mobile\, AL\, 36603\, United States
CATEGORIES:Bible Study
ORGANIZER;CN="Bethel AME Church":MAILTO:bethelamechurchmobile9.com
END:VEVENT
BEGIN:VEVENT
DTSTART;TZID=America/Chicago:20260719T103000
DTEND;TZID=America/Chicago:20260719T103000
DTSTAMP:20260424T161337
CREATED:20251013T193448Z
LAST-MODIFIED:20251013T193448Z
UID:26166-1784457000-1784457000@bethelamechurchmobile.com
SUMMARY:Worship Service
DESCRIPTION:
URL:https://bethelamechurchmobile.com/event/worship-service-404/
LOCATION:Bethel AME Church\, 714 Savannah Street\, Mobile\, AL\, 36603\, United States
CATEGORIES:Worship
ORGANIZER;CN="Bethel AME Church":MAILTO:bethelamechurchmobile9.com
END:VEVENT
BEGIN:VEVENT
DTSTART;TZID=America/Chicago:20260722T183000
DTEND;TZID=America/Chicago:20260722T183000
DTSTAMP:20260424T161337
CREATED:20251013T165553Z
LAST-MODIFIED:20251013T165553Z
UID:26045-1784745000-1784745000@bethelamechurchmobile.com
SUMMARY:Bible Study
DESCRIPTION:
URL:https://bethelamechurchmobile.com/event/bible-study-188/
LOCATION:Bethel AME Church\, 714 Savannah Street\, Mobile\, AL\, 36603\, United States
CATEGORIES:Bible Study
ORGANIZER;CN="Bethel AME Church":MAILTO:bethelamechurchmobile9.com
END:VEVENT
BEGIN:VEVENT
DTSTART;TZID=America/Chicago:20260726T103000
DTEND;TZID=America/Chicago:20260726T103000
DTSTAMP:20260424T161337
CREATED:20251013T193649Z
LAST-MODIFIED:20251013T193649Z
UID:26171-1785061800-1785061800@bethelamechurchmobile.com
SUMMARY:Worship Service
DESCRIPTION:
URL:https://bethelamechurchmobile.com/event/worship-service-405/
LOCATION:Bethel AME Church\, 714 Savannah Street\, Mobile\, AL\, 36603\, United States
CATEGORIES:Worship
ORGANIZER;CN="Bethel AME Church":MAILTO:bethelamechurchmobile9.com
END:VEVENT
BEGIN:VEVENT
DTSTART;TZID=America/Chicago:20260729T183000
DTEND;TZID=America/Chicago:20260729T183000
DTSTAMP:20260424T161337
CREATED:20251013T165553Z
LAST-MODIFIED:20251013T165553Z
UID:26046-1785349800-1785349800@bethelamechurchmobile.com
SUMMARY:Bible Study
DESCRIPTION:
URL:https://bethelamechurchmobile.com/event/bible-study-189/
LOCATION:Bethel AME Church\, 714 Savannah Street\, Mobile\, AL\, 36603\, United States
CATEGORIES:Bible Study
ORGANIZER;CN="Bethel AME Church":MAILTO:bethelamechurchmobile9.com
END:VEVENT
END:VCALENDAR