BEGIN:VCALENDAR
VERSION:2.0
PRODID:-//Bethel AME Church, Mobile, Alabama - ECPv6.15.18//NONSGML v1.0//EN
CALSCALE:GREGORIAN
METHOD:PUBLISH
X-WR-CALNAME:Bethel AME Church, Mobile, Alabama
X-ORIGINAL-URL:https://bethelamechurchmobile.com
X-WR-CALDESC:Events for Bethel AME Church, Mobile, Alabama
REFRESH-INTERVAL;VALUE=DURATION:PT1H
X-Robots-Tag:noindex
X-PUBLISHED-TTL:PT1H
BEGIN:VTIMEZONE
TZID:America/Chicago
BEGIN:DAYLIGHT
TZOFFSETFROM:-0600
TZOFFSETTO:-0500
TZNAME:CDT
DTSTART:20250309T080000
END:DAYLIGHT
BEGIN:STANDARD
TZOFFSETFROM:-0500
TZOFFSETTO:-0600
TZNAME:CST
DTSTART:20251102T070000
END:STANDARD
BEGIN:DAYLIGHT
TZOFFSETFROM:-0600
TZOFFSETTO:-0500
TZNAME:CDT
DTSTART:20260308T080000
END:DAYLIGHT
BEGIN:STANDARD
TZOFFSETFROM:-0500
TZOFFSETTO:-0600
TZNAME:CST
DTSTART:20261101T070000
END:STANDARD
BEGIN:DAYLIGHT
TZOFFSETFROM:-0600
TZOFFSETTO:-0500
TZNAME:CDT
DTSTART:20270314T080000
END:DAYLIGHT
BEGIN:STANDARD
TZOFFSETFROM:-0500
TZOFFSETTO:-0600
TZNAME:CST
DTSTART:20271107T070000
END:STANDARD
END:VTIMEZONE
BEGIN:VEVENT
DTSTART;TZID=America/Chicago:20260503T103000
DTEND;TZID=America/Chicago:20260503T103000
DTSTAMP:20260424T074701
CREATED:20251013T193231Z
LAST-MODIFIED:20251013T193231Z
UID:26155-1777804200-1777804200@bethelamechurchmobile.com
SUMMARY:Worship Service
DESCRIPTION:
URL:https://bethelamechurchmobile.com/event/worship-service-393/
LOCATION:Bethel AME Church\, 714 Savannah Street\, Mobile\, AL\, 36603\, United States
CATEGORIES:Worship
ORGANIZER;CN="Bethel AME Church":MAILTO:bethelamechurchmobile9.com
END:VEVENT
BEGIN:VEVENT
DTSTART;TZID=America/Chicago:20260506T183000
DTEND;TZID=America/Chicago:20260506T183000
DTSTAMP:20260424T074701
CREATED:20251013T165448Z
LAST-MODIFIED:20251013T165448Z
UID:26034-1778092200-1778092200@bethelamechurchmobile.com
SUMMARY:Bible Study
DESCRIPTION:
URL:https://bethelamechurchmobile.com/event/bible-study-177/
LOCATION:Bethel AME Church\, 714 Savannah Street\, Mobile\, AL\, 36603\, United States
CATEGORIES:Bible Study
ORGANIZER;CN="Bethel AME Church":MAILTO:bethelamechurchmobile9.com
END:VEVENT
BEGIN:VEVENT
DTSTART;TZID=America/Chicago:20260510T103000
DTEND;TZID=America/Chicago:20260510T103000
DTSTAMP:20260424T074701
CREATED:20251013T193232Z
LAST-MODIFIED:20251013T193232Z
UID:26156-1778409000-1778409000@bethelamechurchmobile.com
SUMMARY:Worship Service
DESCRIPTION:
URL:https://bethelamechurchmobile.com/event/worship-service-394/
LOCATION:Bethel AME Church\, 714 Savannah Street\, Mobile\, AL\, 36603\, United States
CATEGORIES:Worship
ORGANIZER;CN="Bethel AME Church":MAILTO:bethelamechurchmobile9.com
END:VEVENT
BEGIN:VEVENT
DTSTART;TZID=America/Chicago:20260513T183000
DTEND;TZID=America/Chicago:20260513T183000
DTSTAMP:20260424T074701
CREATED:20251013T165521Z
LAST-MODIFIED:20251013T165521Z
UID:26035-1778697000-1778697000@bethelamechurchmobile.com
SUMMARY:Bible Study
DESCRIPTION:
URL:https://bethelamechurchmobile.com/event/bible-study-178/
LOCATION:Bethel AME Church\, 714 Savannah Street\, Mobile\, AL\, 36603\, United States
CATEGORIES:Bible Study
ORGANIZER;CN="Bethel AME Church":MAILTO:bethelamechurchmobile9.com
END:VEVENT
BEGIN:VEVENT
DTSTART;TZID=America/Chicago:20260517T103000
DTEND;TZID=America/Chicago:20260517T103000
DTSTAMP:20260424T074701
CREATED:20251013T193247Z
LAST-MODIFIED:20251013T193247Z
UID:26157-1779013800-1779013800@bethelamechurchmobile.com
SUMMARY:Worship Service
DESCRIPTION:
URL:https://bethelamechurchmobile.com/event/worship-service-395/
LOCATION:Bethel AME Church\, 714 Savannah Street\, Mobile\, AL\, 36603\, United States
CATEGORIES:Worship
ORGANIZER;CN="Bethel AME Church":MAILTO:bethelamechurchmobile9.com
END:VEVENT
BEGIN:VEVENT
DTSTART;TZID=America/Chicago:20260520T183000
DTEND;TZID=America/Chicago:20260520T183000
DTSTAMP:20260424T074701
CREATED:20251013T165521Z
LAST-MODIFIED:20251013T165521Z
UID:26036-1779301800-1779301800@bethelamechurchmobile.com
SUMMARY:Bible Study
DESCRIPTION:
URL:https://bethelamechurchmobile.com/event/bible-study-179/
LOCATION:Bethel AME Church\, 714 Savannah Street\, Mobile\, AL\, 36603\, United States
CATEGORIES:Bible Study
ORGANIZER;CN="Bethel AME Church":MAILTO:bethelamechurchmobile9.com
END:VEVENT
BEGIN:VEVENT
DTSTART;TZID=America/Chicago:20260524T103000
DTEND;TZID=America/Chicago:20260524T103000
DTSTAMP:20260424T074701
CREATED:20251013T193247Z
LAST-MODIFIED:20251013T193247Z
UID:26158-1779618600-1779618600@bethelamechurchmobile.com
SUMMARY:Worship Service
DESCRIPTION:
URL:https://bethelamechurchmobile.com/event/worship-service-396/
LOCATION:Bethel AME Church\, 714 Savannah Street\, Mobile\, AL\, 36603\, United States
CATEGORIES:Worship
ORGANIZER;CN="Bethel AME Church":MAILTO:bethelamechurchmobile9.com
END:VEVENT
BEGIN:VEVENT
DTSTART;TZID=America/Chicago:20260527T183000
DTEND;TZID=America/Chicago:20260527T183000
DTSTAMP:20260424T074701
CREATED:20251013T165522Z
LAST-MODIFIED:20251013T165522Z
UID:26037-1779906600-1779906600@bethelamechurchmobile.com
SUMMARY:Bible Study
DESCRIPTION:
URL:https://bethelamechurchmobile.com/event/bible-study-180/
LOCATION:Bethel AME Church\, 714 Savannah Street\, Mobile\, AL\, 36603\, United States
CATEGORIES:Bible Study
ORGANIZER;CN="Bethel AME Church":MAILTO:bethelamechurchmobile9.com
END:VEVENT
BEGIN:VEVENT
DTSTART;TZID=America/Chicago:20260531T103000
DTEND;TZID=America/Chicago:20260531T103000
DTSTAMP:20260424T074701
CREATED:20251013T193247Z
LAST-MODIFIED:20251013T193247Z
UID:26159-1780223400-1780223400@bethelamechurchmobile.com
SUMMARY:Worship Service
DESCRIPTION:
URL:https://bethelamechurchmobile.com/event/worship-service-397/
LOCATION:Bethel AME Church\, 714 Savannah Street\, Mobile\, AL\, 36603\, United States
CATEGORIES:Worship
ORGANIZER;CN="Bethel AME Church":MAILTO:bethelamechurchmobile9.com
END:VEVENT
END:VCALENDAR