BEGIN:VCALENDAR
VERSION:2.0
PRODID:-//Bethel AME Church, Mobile, Alabama - ECPv6.15.18//NONSGML v1.0//EN
CALSCALE:GREGORIAN
METHOD:PUBLISH
X-WR-CALNAME:Bethel AME Church, Mobile, Alabama
X-ORIGINAL-URL:https://bethelamechurchmobile.com
X-WR-CALDESC:Events for Bethel AME Church, Mobile, Alabama
REFRESH-INTERVAL;VALUE=DURATION:PT1H
X-Robots-Tag:noindex
X-PUBLISHED-TTL:PT1H
BEGIN:VTIMEZONE
TZID:America/Chicago
BEGIN:DAYLIGHT
TZOFFSETFROM:-0600
TZOFFSETTO:-0500
TZNAME:CDT
DTSTART:20240310T080000
END:DAYLIGHT
BEGIN:STANDARD
TZOFFSETFROM:-0500
TZOFFSETTO:-0600
TZNAME:CST
DTSTART:20241103T070000
END:STANDARD
BEGIN:DAYLIGHT
TZOFFSETFROM:-0600
TZOFFSETTO:-0500
TZNAME:CDT
DTSTART:20250309T080000
END:DAYLIGHT
BEGIN:STANDARD
TZOFFSETFROM:-0500
TZOFFSETTO:-0600
TZNAME:CST
DTSTART:20251102T070000
END:STANDARD
BEGIN:DAYLIGHT
TZOFFSETFROM:-0600
TZOFFSETTO:-0500
TZNAME:CDT
DTSTART:20260308T080000
END:DAYLIGHT
BEGIN:STANDARD
TZOFFSETFROM:-0500
TZOFFSETTO:-0600
TZNAME:CST
DTSTART:20261101T070000
END:STANDARD
END:VTIMEZONE
BEGIN:VEVENT
DTSTART;TZID=America/Chicago:20251203T183000
DTEND;TZID=America/Chicago:20251203T183000
DTSTAMP:20260424T220418
CREATED:20251013T165336Z
LAST-MODIFIED:20251013T165336Z
UID:26007-1764786600-1764786600@bethelamechurchmobile.com
SUMMARY:Bible Study
DESCRIPTION:
URL:https://bethelamechurchmobile.com/event/bible-study-155/
LOCATION:Bethel AME Church\, 714 Savannah Street\, Mobile\, AL\, 36603\, United States
CATEGORIES:Bible Study
ORGANIZER;CN="Bethel AME Church":MAILTO:bethelamechurchmobile9.com
END:VEVENT
BEGIN:VEVENT
DTSTART;TZID=America/Chicago:20251207T103000
DTEND;TZID=America/Chicago:20251207T103000
DTSTAMP:20260424T220418
CREATED:20230615T032141Z
LAST-MODIFIED:20251013T192754Z
UID:24223-1765103400-1765103400@bethelamechurchmobile.com
SUMMARY:Worship Service
DESCRIPTION:live on facebook
URL:https://bethelamechurchmobile.com/event/worship-service-277/
LOCATION:Bethel AME Church\, 714 Savannah Street\, Mobile\, AL\, 36603\, United States
CATEGORIES:Worship
ORGANIZER;CN="Bethel AME Church":MAILTO:bethelamechurchmobile9.com
END:VEVENT
BEGIN:VEVENT
DTSTART;TZID=America/Chicago:20251210T183000
DTEND;TZID=America/Chicago:20251210T183000
DTSTAMP:20260424T220418
CREATED:20251013T165336Z
LAST-MODIFIED:20251013T165336Z
UID:26008-1765391400-1765391400@bethelamechurchmobile.com
SUMMARY:Bible Study
DESCRIPTION:
URL:https://bethelamechurchmobile.com/event/bible-study-156/
LOCATION:Bethel AME Church\, 714 Savannah Street\, Mobile\, AL\, 36603\, United States
CATEGORIES:Bible Study
ORGANIZER;CN="Bethel AME Church":MAILTO:bethelamechurchmobile9.com
END:VEVENT
BEGIN:VEVENT
DTSTART;TZID=America/Chicago:20251214T103000
DTEND;TZID=America/Chicago:20251214T103000
DTSTAMP:20260424T220418
CREATED:20230615T032147Z
LAST-MODIFIED:20251013T192754Z
UID:24224-1765708200-1765708200@bethelamechurchmobile.com
SUMMARY:Worship Service
DESCRIPTION:live on facebook
URL:https://bethelamechurchmobile.com/event/worship-service-278/
LOCATION:Bethel AME Church\, 714 Savannah Street\, Mobile\, AL\, 36603\, United States
CATEGORIES:Worship
ORGANIZER;CN="Bethel AME Church":MAILTO:bethelamechurchmobile9.com
END:VEVENT
BEGIN:VEVENT
DTSTART;TZID=America/Chicago:20251217T183000
DTEND;TZID=America/Chicago:20251217T183000
DTSTAMP:20260424T220418
CREATED:20251013T165336Z
LAST-MODIFIED:20251013T165336Z
UID:26009-1765996200-1765996200@bethelamechurchmobile.com
SUMMARY:Bible Study
DESCRIPTION:
URL:https://bethelamechurchmobile.com/event/bible-study-157/
LOCATION:Bethel AME Church\, 714 Savannah Street\, Mobile\, AL\, 36603\, United States
CATEGORIES:Bible Study
ORGANIZER;CN="Bethel AME Church":MAILTO:bethelamechurchmobile9.com
END:VEVENT
BEGIN:VEVENT
DTSTART;TZID=America/Chicago:20251221T103000
DTEND;TZID=America/Chicago:20251221T103000
DTSTAMP:20260424T220418
CREATED:20230615T032147Z
LAST-MODIFIED:20251013T192754Z
UID:24225-1766313000-1766313000@bethelamechurchmobile.com
SUMMARY:Worship Service
DESCRIPTION:live on facebook
URL:https://bethelamechurchmobile.com/event/worship-service-279/
LOCATION:Bethel AME Church\, 714 Savannah Street\, Mobile\, AL\, 36603\, United States
CATEGORIES:Worship
ORGANIZER;CN="Bethel AME Church":MAILTO:bethelamechurchmobile9.com
END:VEVENT
BEGIN:VEVENT
DTSTART;TZID=America/Chicago:20251224T183000
DTEND;TZID=America/Chicago:20251224T183000
DTSTAMP:20260424T220418
CREATED:20251013T165351Z
LAST-MODIFIED:20251013T165351Z
UID:26015-1766601000-1766601000@bethelamechurchmobile.com
SUMMARY:Bible Study
DESCRIPTION:
URL:https://bethelamechurchmobile.com/event/bible-study-158/
LOCATION:Bethel AME Church\, 714 Savannah Street\, Mobile\, AL\, 36603\, United States
CATEGORIES:Bible Study
ORGANIZER;CN="Bethel AME Church":MAILTO:bethelamechurchmobile9.com
END:VEVENT
BEGIN:VEVENT
DTSTART;TZID=America/Chicago:20251228T103000
DTEND;TZID=America/Chicago:20251228T103000
DTSTAMP:20260424T220418
CREATED:20230615T032147Z
LAST-MODIFIED:20251013T192755Z
UID:24226-1766917800-1766917800@bethelamechurchmobile.com
SUMMARY:Worship Service
DESCRIPTION:live on facebook
URL:https://bethelamechurchmobile.com/event/worship-service-280/
LOCATION:Bethel AME Church\, 714 Savannah Street\, Mobile\, AL\, 36603\, United States
CATEGORIES:Worship
ORGANIZER;CN="Bethel AME Church":MAILTO:bethelamechurchmobile9.com
END:VEVENT
BEGIN:VEVENT
DTSTART;TZID=America/Chicago:20251231T183000
DTEND;TZID=America/Chicago:20251231T183000
DTSTAMP:20260424T220418
CREATED:20251013T165351Z
LAST-MODIFIED:20251013T165351Z
UID:26016-1767205800-1767205800@bethelamechurchmobile.com
SUMMARY:Bible Study
DESCRIPTION:
URL:https://bethelamechurchmobile.com/event/bible-study-159/
LOCATION:Bethel AME Church\, 714 Savannah Street\, Mobile\, AL\, 36603\, United States
CATEGORIES:Bible Study
ORGANIZER;CN="Bethel AME Church":MAILTO:bethelamechurchmobile9.com
END:VEVENT
END:VCALENDAR