BEGIN:VCALENDAR
VERSION:2.0
PRODID:-//Bethel AME Church, Mobile, Alabama - ECPv6.15.18//NONSGML v1.0//EN
CALSCALE:GREGORIAN
METHOD:PUBLISH
X-WR-CALNAME:Bethel AME Church, Mobile, Alabama
X-ORIGINAL-URL:https://bethelamechurchmobile.com
X-WR-CALDESC:Events for Bethel AME Church, Mobile, Alabama
REFRESH-INTERVAL;VALUE=DURATION:PT1H
X-Robots-Tag:noindex
X-PUBLISHED-TTL:PT1H
BEGIN:VTIMEZONE
TZID:America/Chicago
BEGIN:DAYLIGHT
TZOFFSETFROM:-0600
TZOFFSETTO:-0500
TZNAME:CDT
DTSTART:20240310T080000
END:DAYLIGHT
BEGIN:STANDARD
TZOFFSETFROM:-0500
TZOFFSETTO:-0600
TZNAME:CST
DTSTART:20241103T070000
END:STANDARD
BEGIN:DAYLIGHT
TZOFFSETFROM:-0600
TZOFFSETTO:-0500
TZNAME:CDT
DTSTART:20250309T080000
END:DAYLIGHT
BEGIN:STANDARD
TZOFFSETFROM:-0500
TZOFFSETTO:-0600
TZNAME:CST
DTSTART:20251102T070000
END:STANDARD
BEGIN:DAYLIGHT
TZOFFSETFROM:-0600
TZOFFSETTO:-0500
TZNAME:CDT
DTSTART:20260308T080000
END:DAYLIGHT
BEGIN:STANDARD
TZOFFSETFROM:-0500
TZOFFSETTO:-0600
TZNAME:CST
DTSTART:20261101T070000
END:STANDARD
END:VTIMEZONE
BEGIN:VEVENT
DTSTART;TZID=America/Chicago:20251102T103000
DTEND;TZID=America/Chicago:20251102T103000
DTSTAMP:20260424T220423
CREATED:20230615T032137Z
LAST-MODIFIED:20251013T192751Z
UID:24218-1762079400-1762079400@bethelamechurchmobile.com
SUMMARY:Worship Service
DESCRIPTION:live on facebook
URL:https://bethelamechurchmobile.com/event/worship-service-272/
LOCATION:Bethel AME Church\, 714 Savannah Street\, Mobile\, AL\, 36603\, United States
CATEGORIES:Worship
ORGANIZER;CN="Bethel AME Church":MAILTO:bethelamechurchmobile9.com
END:VEVENT
BEGIN:VEVENT
DTSTART;TZID=America/Chicago:20251105T183000
DTEND;TZID=America/Chicago:20251105T183000
DTSTAMP:20260424T220423
CREATED:20251013T165333Z
LAST-MODIFIED:20251013T165333Z
UID:26003-1762367400-1762367400@bethelamechurchmobile.com
SUMMARY:Bible Study
DESCRIPTION:
URL:https://bethelamechurchmobile.com/event/bible-study-151/
LOCATION:Bethel AME Church\, 714 Savannah Street\, Mobile\, AL\, 36603\, United States
CATEGORIES:Bible Study
ORGANIZER;CN="Bethel AME Church":MAILTO:bethelamechurchmobile9.com
END:VEVENT
BEGIN:VEVENT
DTSTART;TZID=America/Chicago:20251109T103000
DTEND;TZID=America/Chicago:20251109T103000
DTSTAMP:20260424T220423
CREATED:20230615T032141Z
LAST-MODIFIED:20251013T192751Z
UID:24219-1762684200-1762684200@bethelamechurchmobile.com
SUMMARY:Worship Service
DESCRIPTION:live on facebook
URL:https://bethelamechurchmobile.com/event/worship-service-273/
LOCATION:Bethel AME Church\, 714 Savannah Street\, Mobile\, AL\, 36603\, United States
CATEGORIES:Worship
ORGANIZER;CN="Bethel AME Church":MAILTO:bethelamechurchmobile9.com
END:VEVENT
BEGIN:VEVENT
DTSTART;TZID=America/Chicago:20251112T183000
DTEND;TZID=America/Chicago:20251112T183000
DTSTAMP:20260424T220423
CREATED:20251013T165333Z
LAST-MODIFIED:20251013T165333Z
UID:26004-1762972200-1762972200@bethelamechurchmobile.com
SUMMARY:Bible Study
DESCRIPTION:
URL:https://bethelamechurchmobile.com/event/bible-study-152/
LOCATION:Bethel AME Church\, 714 Savannah Street\, Mobile\, AL\, 36603\, United States
CATEGORIES:Bible Study
ORGANIZER;CN="Bethel AME Church":MAILTO:bethelamechurchmobile9.com
END:VEVENT
BEGIN:VEVENT
DTSTART;TZID=America/Chicago:20251116T103000
DTEND;TZID=America/Chicago:20251116T103000
DTSTAMP:20260424T220423
CREATED:20230615T032141Z
LAST-MODIFIED:20251013T192751Z
UID:24220-1763289000-1763289000@bethelamechurchmobile.com
SUMMARY:Worship Service
DESCRIPTION:live on facebook
URL:https://bethelamechurchmobile.com/event/worship-service-274/
LOCATION:Bethel AME Church\, 714 Savannah Street\, Mobile\, AL\, 36603\, United States
CATEGORIES:Worship
ORGANIZER;CN="Bethel AME Church":MAILTO:bethelamechurchmobile9.com
END:VEVENT
BEGIN:VEVENT
DTSTART;TZID=America/Chicago:20251119T183000
DTEND;TZID=America/Chicago:20251119T183000
DTSTAMP:20260424T220423
CREATED:20251013T165335Z
LAST-MODIFIED:20251013T165336Z
UID:26005-1763577000-1763577000@bethelamechurchmobile.com
SUMMARY:Bible Study
DESCRIPTION:
URL:https://bethelamechurchmobile.com/event/bible-study-153/
LOCATION:Bethel AME Church\, 714 Savannah Street\, Mobile\, AL\, 36603\, United States
CATEGORIES:Bible Study
ORGANIZER;CN="Bethel AME Church":MAILTO:bethelamechurchmobile9.com
END:VEVENT
BEGIN:VEVENT
DTSTART;TZID=America/Chicago:20251123T103000
DTEND;TZID=America/Chicago:20251123T103000
DTSTAMP:20260424T220423
CREATED:20230615T032141Z
LAST-MODIFIED:20251013T192754Z
UID:24221-1763893800-1763893800@bethelamechurchmobile.com
SUMMARY:Worship Service
DESCRIPTION:live on facebook
URL:https://bethelamechurchmobile.com/event/worship-service-275/
LOCATION:Bethel AME Church\, 714 Savannah Street\, Mobile\, AL\, 36603\, United States
CATEGORIES:Worship
ORGANIZER;CN="Bethel AME Church":MAILTO:bethelamechurchmobile9.com
END:VEVENT
BEGIN:VEVENT
DTSTART;TZID=America/Chicago:20251126T183000
DTEND;TZID=America/Chicago:20251126T183000
DTSTAMP:20260424T220423
CREATED:20251013T165335Z
LAST-MODIFIED:20251013T165336Z
UID:26006-1764181800-1764181800@bethelamechurchmobile.com
SUMMARY:Bible Study
DESCRIPTION:
URL:https://bethelamechurchmobile.com/event/bible-study-154/
LOCATION:Bethel AME Church\, 714 Savannah Street\, Mobile\, AL\, 36603\, United States
CATEGORIES:Bible Study
ORGANIZER;CN="Bethel AME Church":MAILTO:bethelamechurchmobile9.com
END:VEVENT
BEGIN:VEVENT
DTSTART;TZID=America/Chicago:20251130T103000
DTEND;TZID=America/Chicago:20251130T103000
DTSTAMP:20260424T220423
CREATED:20230615T032141Z
LAST-MODIFIED:20251013T192754Z
UID:24222-1764498600-1764498600@bethelamechurchmobile.com
SUMMARY:Worship Service
DESCRIPTION:live on facebook
URL:https://bethelamechurchmobile.com/event/worship-service-276/
LOCATION:Bethel AME Church\, 714 Savannah Street\, Mobile\, AL\, 36603\, United States
CATEGORIES:Worship
ORGANIZER;CN="Bethel AME Church":MAILTO:bethelamechurchmobile9.com
END:VEVENT
END:VCALENDAR