BEGIN:VCALENDAR
VERSION:2.0
PRODID:-//Bethel AME Church, Mobile, Alabama - ECPv6.15.18//NONSGML v1.0//EN
CALSCALE:GREGORIAN
METHOD:PUBLISH
X-WR-CALNAME:Bethel AME Church, Mobile, Alabama
X-ORIGINAL-URL:https://bethelamechurchmobile.com
X-WR-CALDESC:Events for Bethel AME Church, Mobile, Alabama
REFRESH-INTERVAL;VALUE=DURATION:PT1H
X-Robots-Tag:noindex
X-PUBLISHED-TTL:PT1H
BEGIN:VTIMEZONE
TZID:America/Chicago
BEGIN:DAYLIGHT
TZOFFSETFROM:-0600
TZOFFSETTO:-0500
TZNAME:CDT
DTSTART:20240310T080000
END:DAYLIGHT
BEGIN:STANDARD
TZOFFSETFROM:-0500
TZOFFSETTO:-0600
TZNAME:CST
DTSTART:20241103T070000
END:STANDARD
BEGIN:DAYLIGHT
TZOFFSETFROM:-0600
TZOFFSETTO:-0500
TZNAME:CDT
DTSTART:20250309T080000
END:DAYLIGHT
BEGIN:STANDARD
TZOFFSETFROM:-0500
TZOFFSETTO:-0600
TZNAME:CST
DTSTART:20251102T070000
END:STANDARD
BEGIN:DAYLIGHT
TZOFFSETFROM:-0600
TZOFFSETTO:-0500
TZNAME:CDT
DTSTART:20260308T080000
END:DAYLIGHT
BEGIN:STANDARD
TZOFFSETFROM:-0500
TZOFFSETTO:-0600
TZNAME:CST
DTSTART:20261101T070000
END:STANDARD
END:VTIMEZONE
BEGIN:VEVENT
DTSTART;TZID=America/Chicago:20250202T104500
DTEND;TZID=America/Chicago:20250202T104500
DTSTAMP:20260425T225804
CREATED:20240318T155222Z
LAST-MODIFIED:20240318T155222Z
UID:24953-1738493100-1738493100@bethelamechurchmobile.com
SUMMARY:Worship Service
DESCRIPTION:
URL:https://bethelamechurchmobile.com/event/worship-service-341/
LOCATION:Bethel AME Church\, 714 Savannah Street\, Mobile\, AL\, 36603\, United States
CATEGORIES:Worship
ORGANIZER;CN="Bethel AME Church":MAILTO:bethelamechurchmobile9.com
END:VEVENT
BEGIN:VEVENT
DTSTART;TZID=America/Chicago:20250205T120000
DTEND;TZID=America/Chicago:20250205T120000
DTSTAMP:20260425T225804
CREATED:20230615T032907Z
LAST-MODIFIED:20230615T032907Z
UID:24343-1738756800-1738756800@bethelamechurchmobile.com
SUMMARY:Bible Study
DESCRIPTION:
URL:https://bethelamechurchmobile.com/event/bible-study-87/
LOCATION:AL
CATEGORIES:Bible Study
END:VEVENT
BEGIN:VEVENT
DTSTART;TZID=America/Chicago:20250209T104500
DTEND;TZID=America/Chicago:20250209T104500
DTSTAMP:20260425T225804
CREATED:20240318T155222Z
LAST-MODIFIED:20240318T155222Z
UID:24954-1739097900-1739097900@bethelamechurchmobile.com
SUMMARY:Worship Service
DESCRIPTION:
URL:https://bethelamechurchmobile.com/event/worship-service-342/
LOCATION:Bethel AME Church\, 714 Savannah Street\, Mobile\, AL\, 36603\, United States
CATEGORIES:Worship
ORGANIZER;CN="Bethel AME Church":MAILTO:bethelamechurchmobile9.com
END:VEVENT
BEGIN:VEVENT
DTSTART;TZID=America/Chicago:20250212T120000
DTEND;TZID=America/Chicago:20250212T120000
DTSTAMP:20260425T225804
CREATED:20230615T032907Z
LAST-MODIFIED:20230615T032907Z
UID:24344-1739361600-1739361600@bethelamechurchmobile.com
SUMMARY:Bible Study
DESCRIPTION:
URL:https://bethelamechurchmobile.com/event/bible-study-88/
LOCATION:AL
CATEGORIES:Bible Study
END:VEVENT
BEGIN:VEVENT
DTSTART;TZID=America/Chicago:20250216T104500
DTEND;TZID=America/Chicago:20250216T104500
DTSTAMP:20260425T225804
CREATED:20240318T155222Z
LAST-MODIFIED:20240318T155222Z
UID:24955-1739702700-1739702700@bethelamechurchmobile.com
SUMMARY:Worship Service
DESCRIPTION:
URL:https://bethelamechurchmobile.com/event/worship-service-343/
LOCATION:Bethel AME Church\, 714 Savannah Street\, Mobile\, AL\, 36603\, United States
CATEGORIES:Worship
ORGANIZER;CN="Bethel AME Church":MAILTO:bethelamechurchmobile9.com
END:VEVENT
BEGIN:VEVENT
DTSTART;TZID=America/Chicago:20250219T120000
DTEND;TZID=America/Chicago:20250219T120000
DTSTAMP:20260425T225804
CREATED:20230615T032907Z
LAST-MODIFIED:20230615T032907Z
UID:24345-1739966400-1739966400@bethelamechurchmobile.com
SUMMARY:Bible Study
DESCRIPTION:
URL:https://bethelamechurchmobile.com/event/bible-study-89/
LOCATION:AL
CATEGORIES:Bible Study
END:VEVENT
BEGIN:VEVENT
DTSTART;TZID=America/Chicago:20250223T104500
DTEND;TZID=America/Chicago:20250223T104500
DTSTAMP:20260425T225804
CREATED:20240318T155222Z
LAST-MODIFIED:20240318T155222Z
UID:24956-1740307500-1740307500@bethelamechurchmobile.com
SUMMARY:Worship Service
DESCRIPTION:
URL:https://bethelamechurchmobile.com/event/worship-service-344/
LOCATION:Bethel AME Church\, 714 Savannah Street\, Mobile\, AL\, 36603\, United States
CATEGORIES:Worship
ORGANIZER;CN="Bethel AME Church":MAILTO:bethelamechurchmobile9.com
END:VEVENT
BEGIN:VEVENT
DTSTART;TZID=America/Chicago:20250226T120000
DTEND;TZID=America/Chicago:20250226T120000
DTSTAMP:20260425T225804
CREATED:20230615T032907Z
LAST-MODIFIED:20230615T032907Z
UID:24346-1740571200-1740571200@bethelamechurchmobile.com
SUMMARY:Bible Study
DESCRIPTION:
URL:https://bethelamechurchmobile.com/event/bible-study-90/
LOCATION:AL
CATEGORIES:Bible Study
END:VEVENT
END:VCALENDAR