BEGIN:VCALENDAR
VERSION:2.0
PRODID:-//Bethel AME Church, Mobile, Alabama - ECPv6.15.18//NONSGML v1.0//EN
CALSCALE:GREGORIAN
METHOD:PUBLISH
X-ORIGINAL-URL:https://bethelamechurchmobile.com
X-WR-CALDESC:Events for Bethel AME Church, Mobile, Alabama
REFRESH-INTERVAL;VALUE=DURATION:PT1H
X-Robots-Tag:noindex
X-PUBLISHED-TTL:PT1H
BEGIN:VTIMEZONE
TZID:America/Chicago
BEGIN:DAYLIGHT
TZOFFSETFROM:-0600
TZOFFSETTO:-0500
TZNAME:CDT
DTSTART:20220313T080000
END:DAYLIGHT
BEGIN:STANDARD
TZOFFSETFROM:-0500
TZOFFSETTO:-0600
TZNAME:CST
DTSTART:20221106T070000
END:STANDARD
BEGIN:DAYLIGHT
TZOFFSETFROM:-0600
TZOFFSETTO:-0500
TZNAME:CDT
DTSTART:20230312T080000
END:DAYLIGHT
BEGIN:STANDARD
TZOFFSETFROM:-0500
TZOFFSETTO:-0600
TZNAME:CST
DTSTART:20231105T070000
END:STANDARD
BEGIN:DAYLIGHT
TZOFFSETFROM:-0600
TZOFFSETTO:-0500
TZNAME:CDT
DTSTART:20240310T080000
END:DAYLIGHT
BEGIN:STANDARD
TZOFFSETFROM:-0500
TZOFFSETTO:-0600
TZNAME:CST
DTSTART:20241103T070000
END:STANDARD
BEGIN:DAYLIGHT
TZOFFSETFROM:-0600
TZOFFSETTO:-0500
TZNAME:CDT
DTSTART:20250309T080000
END:DAYLIGHT
BEGIN:STANDARD
TZOFFSETFROM:-0500
TZOFFSETTO:-0600
TZNAME:CST
DTSTART:20251102T070000
END:STANDARD
END:VTIMEZONE
BEGIN:VEVENT
DTSTART;TZID=America/Chicago:20240527T110000
DTEND;TZID=America/Chicago:20240527T150000
DTSTAMP:20260421T203447
CREATED:20240423T144140Z
LAST-MODIFIED:20240423T144140Z
UID:25018-1716807600-1716822000@bethelamechurchmobile.com
SUMMARY:Family & Friends Picnic
DESCRIPTION:
URL:https://bethelamechurchmobile.com/event/family-friends-picnic/
LOCATION:Bethel AME Church\, 714 Savannah Street\, Mobile\, AL\, 36603\, United States
CATEGORIES:Picnic
ORGANIZER;CN="Bethel AME Church":MAILTO:bethelamechurchmobile9.com
END:VEVENT
BEGIN:VEVENT
DTSTART;TZID=America/Chicago:20230805T110000
DTEND;TZID=America/Chicago:20230805T140000
DTSTAMP:20260421T203447
CREATED:20230714T192445Z
LAST-MODIFIED:20230717T014445Z
UID:24517-1691233200-1691244000@bethelamechurchmobile.com
SUMMARY:Back to School & Church Fellowship Picnic
DESCRIPTION:
URL:https://bethelamechurchmobile.com/event/back-to-school-church-fellowship-picnic/
LOCATION:Bethel AME Church\, 714 Savannah Street\, Mobile\, AL\, 36603\, United States
CATEGORIES:Picnic
ORGANIZER;CN="Bethel AME Church":MAILTO:bethelamechurchmobile9.com
END:VEVENT
END:VCALENDAR