BEGIN:VCALENDAR
VERSION:2.0
PRODID:-//Bethel AME Church, Mobile, Alabama - ECPv6.15.18//NONSGML v1.0//EN
CALSCALE:GREGORIAN
METHOD:PUBLISH
X-ORIGINAL-URL:https://bethelamechurchmobile.com
X-WR-CALDESC:Events for Bethel AME Church, Mobile, Alabama
REFRESH-INTERVAL;VALUE=DURATION:PT1H
X-Robots-Tag:noindex
X-PUBLISHED-TTL:PT1H
BEGIN:VTIMEZONE
TZID:America/Chicago
BEGIN:DAYLIGHT
TZOFFSETFROM:-0600
TZOFFSETTO:-0500
TZNAME:CDT
DTSTART:20230312T080000
END:DAYLIGHT
BEGIN:STANDARD
TZOFFSETFROM:-0500
TZOFFSETTO:-0600
TZNAME:CST
DTSTART:20231105T070000
END:STANDARD
BEGIN:DAYLIGHT
TZOFFSETFROM:-0600
TZOFFSETTO:-0500
TZNAME:CDT
DTSTART:20240310T080000
END:DAYLIGHT
BEGIN:STANDARD
TZOFFSETFROM:-0500
TZOFFSETTO:-0600
TZNAME:CST
DTSTART:20241103T070000
END:STANDARD
BEGIN:DAYLIGHT
TZOFFSETFROM:-0600
TZOFFSETTO:-0500
TZNAME:CDT
DTSTART:20250309T080000
END:DAYLIGHT
BEGIN:STANDARD
TZOFFSETFROM:-0500
TZOFFSETTO:-0600
TZNAME:CST
DTSTART:20251102T070000
END:STANDARD
END:VTIMEZONE
BEGIN:VEVENT
DTSTART;TZID=America/Chicago:20241201T104500
DTEND;TZID=America/Chicago:20241201T104500
DTSTAMP:20260424T130147
CREATED:20240318T154947Z
LAST-MODIFIED:20240318T154947Z
UID:24944-1733049900-1733049900@bethelamechurchmobile.com
SUMMARY:Worship Service
DESCRIPTION:
URL:https://bethelamechurchmobile.com/event/worship-service-332/
LOCATION:Bethel AME Church\, 714 Savannah Street\, Mobile\, AL\, 36603\, United States
CATEGORIES:Worship
ORGANIZER;CN="Bethel AME Church":MAILTO:bethelamechurchmobile9.com
END:VEVENT
BEGIN:VEVENT
DTSTART;TZID=America/Chicago:20241208T104500
DTEND;TZID=America/Chicago:20241208T104500
DTSTAMP:20260424T130147
CREATED:20240318T154947Z
LAST-MODIFIED:20240318T154947Z
UID:24945-1733654700-1733654700@bethelamechurchmobile.com
SUMMARY:Worship Service
DESCRIPTION:
URL:https://bethelamechurchmobile.com/event/worship-service-333/
LOCATION:Bethel AME Church\, 714 Savannah Street\, Mobile\, AL\, 36603\, United States
CATEGORIES:Worship
ORGANIZER;CN="Bethel AME Church":MAILTO:bethelamechurchmobile9.com
END:VEVENT
BEGIN:VEVENT
DTSTART;TZID=America/Chicago:20241215T104500
DTEND;TZID=America/Chicago:20241215T104500
DTSTAMP:20260424T130147
CREATED:20240318T154947Z
LAST-MODIFIED:20240318T154947Z
UID:24946-1734259500-1734259500@bethelamechurchmobile.com
SUMMARY:Worship Service
DESCRIPTION:
URL:https://bethelamechurchmobile.com/event/worship-service-334/
LOCATION:Bethel AME Church\, 714 Savannah Street\, Mobile\, AL\, 36603\, United States
CATEGORIES:Worship
ORGANIZER;CN="Bethel AME Church":MAILTO:bethelamechurchmobile9.com
END:VEVENT
BEGIN:VEVENT
DTSTART;TZID=America/Chicago:20241222T104500
DTEND;TZID=America/Chicago:20241222T104500
DTSTAMP:20260424T130147
CREATED:20240318T155148Z
LAST-MODIFIED:20240318T155148Z
UID:24947-1734864300-1734864300@bethelamechurchmobile.com
SUMMARY:Worship Service
DESCRIPTION:
URL:https://bethelamechurchmobile.com/event/worship-service-335/
LOCATION:Bethel AME Church\, 714 Savannah Street\, Mobile\, AL\, 36603\, United States
CATEGORIES:Worship
ORGANIZER;CN="Bethel AME Church":MAILTO:bethelamechurchmobile9.com
END:VEVENT
BEGIN:VEVENT
DTSTART;TZID=America/Chicago:20241229T104500
DTEND;TZID=America/Chicago:20241229T104500
DTSTAMP:20260424T130147
CREATED:20240318T155148Z
LAST-MODIFIED:20240318T155148Z
UID:24948-1735469100-1735469100@bethelamechurchmobile.com
SUMMARY:Worship Service
DESCRIPTION:
URL:https://bethelamechurchmobile.com/event/worship-service-336/
LOCATION:Bethel AME Church\, 714 Savannah Street\, Mobile\, AL\, 36603\, United States
CATEGORIES:Worship
ORGANIZER;CN="Bethel AME Church":MAILTO:bethelamechurchmobile9.com
END:VEVENT
END:VCALENDAR